BEGIN:VCALENDAR
VERSION:2.0
PRODID:-//Convivo - ECPv6.15.20//NONSGML v1.0//EN
CALSCALE:GREGORIAN
METHOD:PUBLISH
X-ORIGINAL-URL:https://convivo.ch
X-WR-CALDESC:Veranstaltungen für Convivo
REFRESH-INTERVAL;VALUE=DURATION:PT1H
X-Robots-Tag:noindex
X-PUBLISHED-TTL:PT1H
BEGIN:VTIMEZONE
TZID:Europe/Zurich
BEGIN:DAYLIGHT
TZOFFSETFROM:+0100
TZOFFSETTO:+0200
TZNAME:CEST
DTSTART:20260329T010000
END:DAYLIGHT
BEGIN:STANDARD
TZOFFSETFROM:+0200
TZOFFSETTO:+0100
TZNAME:CET
DTSTART:20261025T010000
END:STANDARD
BEGIN:DAYLIGHT
TZOFFSETFROM:+0100
TZOFFSETTO:+0200
TZNAME:CEST
DTSTART:20270328T010000
END:DAYLIGHT
BEGIN:STANDARD
TZOFFSETFROM:+0200
TZOFFSETTO:+0100
TZNAME:CET
DTSTART:20271031T010000
END:STANDARD
BEGIN:DAYLIGHT
TZOFFSETFROM:+0100
TZOFFSETTO:+0200
TZNAME:CEST
DTSTART:20280326T010000
END:DAYLIGHT
BEGIN:STANDARD
TZOFFSETFROM:+0200
TZOFFSETTO:+0100
TZNAME:CET
DTSTART:20281029T010000
END:STANDARD
END:VTIMEZONE
BEGIN:VEVENT
DTSTART;TZID=Europe/Zurich:20271028T200000
DTEND;TZID=Europe/Zurich:20271028T223000
DTSTAMP:20260422T000247
CREATED:20260421T173632Z
LAST-MODIFIED:20260421T173632Z
UID:253079-1824753600-1824762600@convivo.ch
SUMMARY:Vacant
DESCRIPTION:Infos und Vorverkauf folgt
URL:https://convivo.ch/event/vacant1/
END:VEVENT
BEGIN:VEVENT
DTSTART;TZID=Europe/Zurich:20271029T200000
DTEND;TZID=Europe/Zurich:20271029T223000
DTSTAMP:20260422T000247
CREATED:20260421T173749Z
LAST-MODIFIED:20260421T173749Z
UID:253082-1824840000-1824849000@convivo.ch
SUMMARY:Vacant 2
DESCRIPTION:Infos und Vorverkauf folgt
URL:https://convivo.ch/event/vacant2/
END:VEVENT
BEGIN:VEVENT
DTSTART;TZID=Europe/Zurich:20271030T200000
DTEND;TZID=Europe/Zurich:20271030T223000
DTSTAMP:20260422T000247
CREATED:20260421T173853Z
LAST-MODIFIED:20260421T173853Z
UID:253085-1824926400-1824935400@convivo.ch
SUMMARY:Vacant 3
DESCRIPTION:Infos und Vorverkauf folgt
URL:https://convivo.ch/event/vacant3/
END:VEVENT
BEGIN:VEVENT
DTSTART;TZID=Europe/Zurich:20271031T200000
DTEND;TZID=Europe/Zurich:20271031T223000
DTSTAMP:20260422T000247
CREATED:20260421T173954Z
LAST-MODIFIED:20260421T174104Z
UID:253088-1825012800-1825021800@convivo.ch
SUMMARY:Vacant 4
DESCRIPTION:Infos und Vorverkauf folgt
URL:https://convivo.ch/event/vacant4/
END:VEVENT
BEGIN:VEVENT
DTSTART;TZID=Europe/Zurich:20271105T200000
DTEND;TZID=Europe/Zurich:20271105T223000
DTSTAMP:20260422T000247
CREATED:20260421T174222Z
LAST-MODIFIED:20260421T174222Z
UID:253091-1825444800-1825453800@convivo.ch
SUMMARY:Vacant 5
DESCRIPTION:Infos und Vorverkauf folgt
URL:https://convivo.ch/event/vacant5/
END:VEVENT
BEGIN:VEVENT
DTSTART;TZID=Europe/Zurich:20271106T200000
DTEND;TZID=Europe/Zurich:20271106T223000
DTSTAMP:20260422T000247
CREATED:20260416T125432Z
LAST-MODIFIED:20260416T125432Z
UID:253027-1825531200-1825540200@convivo.ch
SUMMARY:Volkshaus Zürich
DESCRIPTION:Infos und Vorverkauf folgt
URL:https://convivo.ch/event/volkshaus-zuerich/
END:VEVENT
END:VCALENDAR